BEGIN:VCALENDAR
VERSION:2.0
PRODID:-//Northern Vermont University - ECPv6.6.4.2//NONSGML v1.0//EN
CALSCALE:GREGORIAN
METHOD:PUBLISH
X-WR-CALNAME:Northern Vermont University
X-ORIGINAL-URL:https://www.northernvermont.edu
X-WR-CALDESC:Events for Northern Vermont University
REFRESH-INTERVAL;VALUE=DURATION:PT1H
X-Robots-Tag:noindex
X-PUBLISHED-TTL:PT1H
BEGIN:VTIMEZONE
TZID:America/New_York
BEGIN:DAYLIGHT
TZOFFSETFROM:-0500
TZOFFSETTO:-0400
TZNAME:EDT
DTSTART:20230312T070000
END:DAYLIGHT
BEGIN:STANDARD
TZOFFSETFROM:-0400
TZOFFSETTO:-0500
TZNAME:EST
DTSTART:20231105T060000
END:STANDARD
END:VTIMEZONE
BEGIN:VEVENT
DTSTART;TZID=America/New_York:20230302T080000
DTEND;TZID=America/New_York:20230302T090000
DTSTAMP:20260422T083818
CREATED:20230102T205743Z
LAST-MODIFIED:20230213T164326Z
UID:93435-1677744000-1677747600@www.northernvermont.edu
SUMMARY:The Critic's Story Contest
DESCRIPTION:The Critic is looking to feature the talented writers of NVU-Lyndon! Submit a written story—any genre\, any length—to The Critic by 5:00 pm Friday\, April 28th to be considered in our Story Contest! The top writers will be recognized the following week\, with all stories shared on our website. Anyone can submit to the contest\, but only current Lyndon students are eligible for the top prizes. Submissions can be sent to The Critic by email at TheCritic@NorthernVermont.edu.
URL:https://www.northernvermont.edu/event/the-critics-story-contest-45/
LOCATION:VENUENAME
CATEGORIES:Other Student Events
ORGANIZER;CN="CONTACTNAME":MAILTO:CONTACTEMAIL
END:VEVENT
BEGIN:VEVENT
DTSTART;TZID=America/New_York:20230302T120000
DTEND;TZID=America/New_York:20230302T130000
DTSTAMP:20260422T083818
CREATED:20230123T145720Z
LAST-MODIFIED:20230213T164316Z
UID:97103-1677758400-1677762000@www.northernvermont.edu
SUMMARY:Express and Destress
DESCRIPTION:Stop by the Fireplace lounge to try out some creative techniques to de-stress.
URL:https://www.northernvermont.edu/event/express-and-destress-58/
LOCATION:VENUENAME
ORGANIZER;CN="CONTACTNAME":MAILTO:CONTACTEMAIL
END:VEVENT
BEGIN:VEVENT
DTSTART;TZID=America/New_York:20230216T140000
DTEND;TZID=America/New_York:20230216T150000
DTSTAMP:20260422T083818
CREATED:20230208T161553Z
LAST-MODIFIED:20230213T161800Z
UID:97588-1676556000-1676559600@www.northernvermont.edu
SUMMARY:Sleep Yoga
DESCRIPTION:Join Kerys from the Wellness Center to relax while lying down or seated to a guided meditation to improve sleep quality\, reduce stress\, and encourage a sense of well-being.
URL:https://www.northernvermont.edu/event/sleep-yoga/
END:VEVENT
BEGIN:VEVENT
DTSTART;TZID=America/New_York:20230302T170000
DTEND;TZID=America/New_York:20230302T180000
DTSTAMP:20260422T083818
CREATED:20230118T205730Z
LAST-MODIFIED:20230213T164254Z
UID:96770-1677776400-1677780000@www.northernvermont.edu
SUMMARY:Tai Chi Class
DESCRIPTION:Join us for Tai Chi for free! Brought to you by CVCOA.
URL:https://www.northernvermont.edu/event/tai-chi-class-5/
LOCATION:VENUENAME
ORGANIZER;CN="CONTACTNAME":MAILTO:CONTACTEMAIL
END:VEVENT
BEGIN:VEVENT
DTSTART;TZID=America/New_York:20230302T190000
DTEND;TZID=America/New_York:20230302T210000
DTSTAMP:20260422T083818
CREATED:20230208T192244Z
LAST-MODIFIED:20230213T164242Z
UID:97608-1677783600-1677790800@www.northernvermont.edu
SUMMARY:Mini-Golf Night
DESCRIPTION:Fore! Join us in the Dewey Commons for a fun night of mini-golf!
URL:https://www.northernvermont.edu/event/mini-golf-night-2/
END:VEVENT
END:VCALENDAR