BEGIN:VCALENDAR
VERSION:2.0
PRODID:-//Northern Vermont University - ECPv6.6.4.2//NONSGML v1.0//EN
CALSCALE:GREGORIAN
METHOD:PUBLISH
X-ORIGINAL-URL:https://www.northernvermont.edu
X-WR-CALDESC:Events for Northern Vermont University
REFRESH-INTERVAL;VALUE=DURATION:PT1H
X-Robots-Tag:noindex
X-PUBLISHED-TTL:PT1H
BEGIN:VTIMEZONE
TZID:America/New_York
BEGIN:DAYLIGHT
TZOFFSETFROM:-0500
TZOFFSETTO:-0400
TZNAME:EDT
DTSTART:20230312T070000
END:DAYLIGHT
BEGIN:STANDARD
TZOFFSETFROM:-0400
TZOFFSETTO:-0500
TZNAME:EST
DTSTART:20231105T060000
END:STANDARD
END:VTIMEZONE
BEGIN:VEVENT
DTSTART;TZID=America/New_York:20230314T080000
DTEND;TZID=America/New_York:20230314T090000
DTSTAMP:20260424T093228
CREATED:20230102T205750Z
LAST-MODIFIED:20230213T165200Z
UID:93448-1678780800-1678784400@www.northernvermont.edu
SUMMARY:The Critic's Story Contest
DESCRIPTION:The Critic is looking to feature the talented writers of NVU-Lyndon! Submit a written story—any genre\, any length—to The Critic by 5:00 pm Friday\, April 28th to be considered in our Story Contest! The top writers will be recognized the following week\, with all stories shared on our website. Anyone can submit to the contest\, but only current Lyndon students are eligible for the top prizes. Submissions can be sent to The Critic by email at TheCritic@NorthernVermont.edu.
URL:https://www.northernvermont.edu/event/the-critics-story-contest-57/
LOCATION:VENUENAME
CATEGORIES:Other Student Events
ORGANIZER;CN="CONTACTNAME":MAILTO:CONTACTEMAIL
END:VEVENT
BEGIN:VEVENT
DTSTART;TZID=America/New_York:20230314T090000
DTEND;TZID=America/New_York:20230314T100000
DTSTAMP:20260424T093228
CREATED:20230118T205739Z
LAST-MODIFIED:20230213T165159Z
UID:96772-1678784400-1678788000@www.northernvermont.edu
SUMMARY:Community Connection Coffee
DESCRIPTION:Join your colleagues for a nice hot beverage and a chat!
URL:https://www.northernvermont.edu/event/community-connection-coffee/
LOCATION:VENUENAME
ORGANIZER;CN="CONTACTNAME":MAILTO:CONTACTEMAIL
END:VEVENT
BEGIN:VEVENT
DTSTART;TZID=America/New_York:20230314T090000
DTEND;TZID=America/New_York:20230314T130000
DTSTAMP:20260424T093228
CREATED:20230119T205716Z
LAST-MODIFIED:20230213T165156Z
UID:96916-1678784400-1678798800@www.northernvermont.edu
SUMMARY:Pi Day Celebration with Pie!
DESCRIPTION:Stop on by for a piece of pie! In celebration of Pi Day – 3.14 – come to Dewey Commons for a piece of free pie. Pies will be out at 9am and remain until the last piece is gone!
URL:https://www.northernvermont.edu/event/pi-day-celebration-with-pie/
LOCATION:VENUENAME
ORGANIZER;CN="CONTACTNAME":MAILTO:CONTACTEMAIL
END:VEVENT
BEGIN:VEVENT
DTSTART;TZID=America/New_York:20230306T113000
DTEND;TZID=America/New_York:20230306T133000
DTSTAMP:20260424T093228
CREATED:20230302T142552Z
LAST-MODIFIED:20230302T142552Z
UID:97842-1678102200-1678109400@www.northernvermont.edu
SUMMARY:Career & Internship Outreach Table
DESCRIPTION:Stop by the Stearns Fireplace Lounge to ask Beth about Resumes\, Internships\, Grad School and the March 21st Career and Internship Fair.
URL:https://www.northernvermont.edu/event/career-internship-outreach-table-567/
END:VEVENT
BEGIN:VEVENT
DTSTART;TZID=America/New_York:20230314T120000
DTEND;TZID=America/New_York:20230314T123000
DTSTAMP:20260424T093228
CREATED:20230209T160922Z
LAST-MODIFIED:20230213T165153Z
UID:97624-1678795200-1678797000@www.northernvermont.edu
SUMMARY:Dean's List and President's List Ceremony
DESCRIPTION:Dean’s List and President’s List Ceremony – Join us to celebrate our NVU-J students’ accomplishments.
URL:https://www.northernvermont.edu/event/deans-list-and-presidents-list-ceremony-2/
END:VEVENT
BEGIN:VEVENT
DTSTART;TZID=America/New_York:20230314T120000
DTEND;TZID=America/New_York:20230314T130000
DTSTAMP:20260424T093228
CREATED:20230308T131900Z
LAST-MODIFIED:20230308T131900Z
UID:97937-1678795200-1678798800@www.northernvermont.edu
SUMMARY:Rainbow Connections
DESCRIPTION:Join Brynn and Matt from the Wellness Center to explore identity.
URL:https://www.northernvermont.edu/event/rainbow-connections-10/
END:VEVENT
BEGIN:VEVENT
DTSTART;TZID=America/New_York:20230314T180000
DTEND;TZID=America/New_York:20230314T210000
DTSTAMP:20260424T093228
CREATED:20230124T205741Z
LAST-MODIFIED:20230213T165148Z
UID:97271-1678816800-1678827600@www.northernvermont.edu
SUMMARY:Drop-in Tutoring
DESCRIPTION:Drop-In Tutoring\n6 – 9pm\, Academic Support Services (Dewey 114) \nNeed a little help or more than a little? We have a fun group of peer and professional tutors who can provide the assistance you may need to clarify your homework assignment\, discuss concepts from your class\, or brainstorm a paper or project. No appointment is necessary\, so pop in anytime between 6 and 9pm and stay for a minute or for the duration. \nMondays: Math/Science/Writing\nTuesdays: Math/Science/Writing\nWednesdays: Math/Writing
URL:https://www.northernvermont.edu/event/drop-in-tutoring-19/
LOCATION:VENUENAME
ORGANIZER;CN="CONTACTNAME":MAILTO:CONTACTEMAIL
END:VEVENT
BEGIN:VEVENT
DTSTART;TZID=America/New_York:20230228T183000
DTEND;TZID=America/New_York:20230228T203000
DTSTAMP:20260424T093228
CREATED:20230215T144746Z
LAST-MODIFIED:20230215T144746Z
UID:97676-1677609000-1677616200@www.northernvermont.edu
SUMMARY:MEISA Club Meeting
DESCRIPTION:Join Lyndon’s MEISA for their weekly club meetings\, all are welcome!
URL:https://www.northernvermont.edu/event/meisa-club-meeting/
END:VEVENT
END:VCALENDAR